BEGIN:VCALENDAR
VERSION:2.0
CALSCALE:GREGORIAN
PRODID:-//Diputació de Barcelona//DibaCMS//EN
BEGIN:VEVENT
UID:2148
DTSTAMP:20260423T204817
DTSTART:20200315T090000
DTEND:20200315T160000
SUMMARY:Pedalada del Senglar 2020
LOCATION:
METHOD:PUBLISH
X-WR-CALNAME:canovesisamalus@canovesisamalus.cat
X-WR-TIMEZONE:Europe/Madrid
DESCRIPTION:ACTIVITAT ANUL·LADA A PROPÒSIT DE LES MESURES DE PREVENCIÓ SOBRE EL CORONAVIRUS.

Es buscaran noves dates més endavant.

URI:https://www.canovesisamalus.cat/actualitat/agenda-municipal/pedalada-del-senglar-2020.html
CLASS:PUBLIC
END:VEVENT
END:VCALENDAR
