BEGIN:VCALENDAR
VERSION:2.0
CALSCALE:GREGORIAN
PRODID:-//Diputació de Barcelona//DibaCMS//EN
BEGIN:VEVENT
UID:2154
DTSTAMP:20260423T204752
DTSTART:20200217T080000
DTEND:20200314T000000
SUMMARY:A Cànoves i Samalús també hi ha bones cuineres
LOCATION:
METHOD:PUBLISH
X-WR-CALNAME:canovesisamalus@canovesisamalus.cat
X-WR-TIMEZONE:Europe/Madrid
DESCRIPTION:Dues samalusenques es fan els primers llocs entre les 57 receptes presentades al concurs de receptes de la Reserva de la Biosfera.

URI:https://www.canovesisamalus.cat/actualitat/noticies/a-canoves-i-samalus-tambe-hi-ha-bones-cuineres.html
CLASS:PUBLIC
END:VEVENT
END:VCALENDAR
