BEGIN:VCALENDAR
VERSION:2.0
CALSCALE:GREGORIAN
PRODID:-//Diputació de Barcelona//DibaCMS//EN
BEGIN:VEVENT
UID:2175
DTSTAMP:20260423T204635
DTSTART:20200305T090000
DTEND:20200328T000000
SUMMARY:Diputació de Barcelona presenta les seves línies de suport als municipis
LOCATION:
METHOD:PUBLISH
X-WR-CALNAME:canovesisamalus@canovesisamalus.cat
X-WR-TIMEZONE:Europe/Madrid
DESCRIPTION:L’alcalde Josep Cuch, acompanyat de la regidora de Cultura, assiteixen a la presentació de les línies de suport als ajuntaments convocada per la Diputació de Barcelona.

URI:https://www.canovesisamalus.cat/actualitat/noticies/diputacio-de-barcelona-presenta-les-seves-linies-de-suport-als-municipis.html
CLASS:PUBLIC
END:VEVENT
END:VCALENDAR
