BEGIN:VCALENDAR
VERSION:2.0
CALSCALE:GREGORIAN
PRODID:-//Diputació de Barcelona//DibaCMS//EN
BEGIN:VEVENT
UID:2177
DTSTAMP:20260423T204706
DTSTART:20200311T090000
DTEND:20200328T000000
SUMMARY:Digiemprèn, la nova plataforma per a que els comerciants digitalitzin el seu comerç
LOCATION:
METHOD:PUBLISH
X-WR-CALNAME:canovesisamalus@canovesisamalus.cat
X-WR-TIMEZONE:Europe/Madrid
DESCRIPTION:Una eina on-line que vol ser pràctica, àgil, intuïtiva i visual pels comerciants dels municipis.

URI:https://www.canovesisamalus.cat/actualitat/noticies/digiempren-la-nova-plataforma-per-a-que-els-comerciants-digitalitzin-el-seu-comerc.html
CLASS:PUBLIC
END:VEVENT
END:VCALENDAR
