BEGIN:VCALENDAR
VERSION:2.0
CALSCALE:GREGORIAN
PRODID:-//Diputació de Barcelona//DibaCMS//EN
BEGIN:VEVENT
UID:2194
DTSTAMP:20260424T003031
DTSTART:20200420T090000
DTEND:20200420T130000
SUMMARY:Expedició de DNI's a Cànoves
LOCATION:Masia Can Casademunt, s/n  08445 Cànoves i Samalús
METHOD:PUBLISH
X-WR-CALNAME:canovesisamalus@canovesisamalus.cat
X-WR-TIMEZONE:Europe/Madrid
DESCRIPTION:
​ARRAN DE L'ESTAT D'ALARMA DECRETAT L'EQUIP MÒBIL SUSPÈN TOTES LES SORTIDES PER A L'EXPEDICIÓ DEL DNI FINS A NOU AVÍS

 

 

URI:https://www.canovesisamalus.cat/actualitat/agenda-municipal/expedicio-de-dnis-a-canoves.html
CLASS:PUBLIC
END:VEVENT
END:VCALENDAR
