BEGIN:VCALENDAR
VERSION:2.0
CALSCALE:GREGORIAN
PRODID:-//Diputació de Barcelona//DibaCMS//EN
BEGIN:VEVENT
UID:2488
DTSTAMP:20260424T012244
DTSTART:20201030T120000
DTEND:20201128T000000
SUMMARY:El Consell d’Alcaldies i representants del Govern es reuneixen per comentar la situació de la pandèmia amb  una crida a la responsabilitat 
LOCATION:
METHOD:PUBLISH
X-WR-CALNAME:canovesisamalus@canovesisamalus.cat
X-WR-TIMEZONE:Europe/Madrid
DESCRIPTION:S’adverteix que arriben mesures dures, necessàries per baixar la transmissió comunitària.

URI:https://www.canovesisamalus.cat/actualitat/noticies/el-consell-dalcaldies-i-representants-del-govern-es-reuneixen-per-comentar-la-situacio-de-la-pandemia-amb-una-crida-a-la-responsabilitat-.html
CLASS:PUBLIC
END:VEVENT
END:VCALENDAR
