BEGIN:VCALENDAR
VERSION:2.0
CALSCALE:GREGORIAN
PRODID:-//Diputació de Barcelona//DibaCMS//EN
BEGIN:VEVENT
UID:2554
DTSTAMP:20260424T024533
DTSTART:20201224T120000
DTEND:20210122T000000
SUMMARY:La Rectoria en la fase final de la primera volta
LOCATION:
METHOD:PUBLISH
X-WR-CALNAME:canovesisamalus@canovesisamalus.cat
X-WR-TIMEZONE:Europe/Madrid
DESCRIPTION:​Es vol que la Rectoria sigui un centre social flexible, tot i que es pugui reservar algun espai per algun servei municipal, aclaria l’Alcalde  Josep Cuch en la darrera reunió del procés participatiu de la Rectoria.

URI:https://www.canovesisamalus.cat/actualitat/noticies/la-rectoria-en-la-fase-final-de-la-primera-volta.html
CLASS:PUBLIC
END:VEVENT
END:VCALENDAR
