BEGIN:VCALENDAR
VERSION:2.0
CALSCALE:GREGORIAN
PRODID:-//Diputació de Barcelona//DibaCMS//EN
BEGIN:VEVENT
UID:2558
DTSTAMP:20260424T043233
DTSTART:20201231T120000
DTEND:20210123T000000
SUMMARY:Cànoves ampliarà les seves instal·lacions esportives amb un circuit de cal·listènia
LOCATION:
METHOD:PUBLISH
X-WR-CALNAME:canovesisamalus@canovesisamalus.cat
X-WR-TIMEZONE:Europe/Madrid
DESCRIPTION:La regidoria d’Esports destina 2400€ més per invertir en el circuit de cal·listènia que es vol instal·lar a Cànoves.

URI:https://www.canovesisamalus.cat/actualitat/noticies/canoves-ampliara-les-seves-installacions-esportives-amb-un-circuit-de-callistenia.html
CLASS:PUBLIC
END:VEVENT
END:VCALENDAR
