BEGIN:VCALENDAR
VERSION:2.0
CALSCALE:GREGORIAN
PRODID:-//Diputació de Barcelona//DibaCMS//EN
BEGIN:VEVENT
UID:2560
DTSTAMP:20260424T062653
DTSTART:20210107T070000
DTEND:20210130T000000
SUMMARY:Servei d’Ajuda a Domicili 
LOCATION:
METHOD:PUBLISH
X-WR-CALNAME:canovesisamalus@canovesisamalus.cat
X-WR-TIMEZONE:Europe/Madrid
DESCRIPTION:​Des de la regidoria de Benestar Social es fa seguiment dels informes que presenten els Serveis Socials Municipals de les famílies del municipi que recorren al Servei d’Ajuda a Domicili (SAD).

URI:https://www.canovesisamalus.cat/actualitat/noticies/servei-dajuda-a-domicili-.html
CLASS:PUBLIC
END:VEVENT
END:VCALENDAR
