BEGIN:VCALENDAR
VERSION:2.0
CALSCALE:GREGORIAN
PRODID:-//Diputació de Barcelona//DibaCMS//EN
BEGIN:VEVENT
UID:2671
DTSTAMP:20260424T043129
DTSTART:20210319T130000
DTEND:20210418T000000
SUMMARY:Noves dates per l’expedició i renovació del DNI a Cànoves
LOCATION:
METHOD:PUBLISH
X-WR-CALNAME:canovesisamalus@canovesisamalus.cat
X-WR-TIMEZONE:Europe/Madrid
DESCRIPTION:DATES RECTIFICADES: Els propers dies 28 i 30 d’abril retorna la unitat mòbil d’expedició i renovació dels Documents Nacionals d’Identitat (DNI).  Per realitzar aquest tràmit cal venir aquests dos dies alternatius per finalitzar l'expedició o renovació d'aquest document.

URI:https://www.canovesisamalus.cat/actualitat/noticies/2671-noves-dates-per-lexpedicio-i-renovacio-del-dni-a-canoves.html
CLASS:PUBLIC
END:VEVENT
END:VCALENDAR
