BEGIN:VCALENDAR
VERSION:2.0
CALSCALE:GREGORIAN
PRODID:-//Diputació de Barcelona//DibaCMS//EN
BEGIN:VEVENT
UID:2729
DTSTAMP:20260424T062553
DTSTART:20210421T142100
DTEND:20210521T000000
SUMMARY:El Govern local consolida el  servei de reciclatge d’oli
LOCATION:
METHOD:PUBLISH
X-WR-CALNAME:canovesisamalus@canovesisamalus.cat
X-WR-TIMEZONE:Europe/Madrid
DESCRIPTION:El Govern local vol consolidar el servei de recollida i reciclatge dels olis vegetals utilitzats a les cuines de les llars per tal de millorar els serveis als seus vilatans i, alhora, seguir fomentant el concepte de reciclatge en la ciutadania.

URI:https://www.canovesisamalus.cat/actualitat/noticies/el-govern-local-consolida-el-servei-de-reciclatge-doli.html
CLASS:PUBLIC
END:VEVENT
END:VCALENDAR
