BEGIN:VCALENDAR
VERSION:2.0
CALSCALE:GREGORIAN
PRODID:-//Diputació de Barcelona//DibaCMS//EN
BEGIN:VEVENT
UID:2852
DTSTAMP:20260424T081031
DTSTART:20210726T080000
DTEND:20210819T000000
SUMMARY:Apropa’t i viu, la nova campanya del Vallès Oriental
LOCATION:
METHOD:PUBLISH
X-WR-CALNAME:canovesisamalus@canovesisamalus.cat
X-WR-TIMEZONE:Europe/Madrid
DESCRIPTION:L’eix central de la campanya és el turisme de proximitat.

URI:https://www.canovesisamalus.cat/actualitat/noticies/apropat-i-viu-la-nova-campanya-del-valles-oriental.html
CLASS:PUBLIC
END:VEVENT
END:VCALENDAR
