BEGIN:VCALENDAR
VERSION:2.0
CALSCALE:GREGORIAN
PRODID:-//Diputació de Barcelona//DibaCMS//EN
BEGIN:VEVENT
UID:2946
DTSTAMP:20260424T152917
DTSTART:20211013T080000
DTEND:20211105T000000
SUMMARY:El bernat pescaire nidifica amb èxit per primer cop a la conca del Besòs
LOCATION:
METHOD:PUBLISH
X-WR-CALNAME:canovesisamalus@canovesisamalus.cat
X-WR-TIMEZONE:Europe/Madrid
DESCRIPTION:Aquest fet s’ha confirmat durant els treballs de seguiment d’aus duts a terme a les conques del Besòs i de la Tordera per l’Observatori RIVUS.
En el cas de la Tordera, s’ha detectat un increment de parelles de corriol petit amb un major èxit de reproducció.

URI:https://www.canovesisamalus.cat/actualitat/noticies/el-bernat-pescaire-nidifica-amb-exit-per-primer-cop-a-la-conca-del-besos.html
CLASS:PUBLIC
END:VEVENT
END:VCALENDAR
