BEGIN:VCALENDAR
VERSION:2.0
CALSCALE:GREGORIAN
PRODID:-//Diputació de Barcelona//DibaCMS//EN
BEGIN:VEVENT
UID:2979
DTSTAMP:20260424T131222
DTSTART:20211103T090000
DTEND:20211103T140000
SUMMARY:Webinar: Linkedin, tens optimitzada la que ja és la millor xarxa de contactes que existeix?
LOCATION:Aula Virtual del CSETC 
METHOD:PUBLISH
X-WR-CALNAME:canovesisamalus@canovesisamalus.cat
X-WR-TIMEZONE:Europe/Madrid
DESCRIPTION:Treballa la pàgina d’empresa a Linkedin.
Orientat als professionals, negocis ja en marxa o projectes que ja s’estan assessorant al CSETC.

URI:https://www.canovesisamalus.cat/actualitat/agenda-municipal/webinar-linkedin-tens-optimitzada-la-que-ja-es-la-millor-xarxa-de-contactes-que-existeix.html
CLASS:PUBLIC
END:VEVENT
END:VCALENDAR
