BEGIN:VCALENDAR
VERSION:2.0
CALSCALE:GREGORIAN
PRODID:-//Diputació de Barcelona//DibaCMS//EN
BEGIN:VEVENT
UID:2986
DTSTAMP:20260424T113518
DTSTART:20211022T142500
DTEND:20211121T000000
SUMMARY:El Govern local present a Municipàlia
LOCATION:
METHOD:PUBLISH
X-WR-CALNAME:canovesisamalus@canovesisamalus.cat
X-WR-TIMEZONE:Europe/Madrid
DESCRIPTION:Del 19 al 21 d’octubre ha tingut lloc a la ciutat de Lleida la fira biennal de Municipàlia.  Aquest fira biennal és la més important del sector i un referent per als ajuntaments per trobar les millors solucions per a la gestió municipal.

URI:https://www.canovesisamalus.cat/actualitat/noticies/el-govern-local-present-a-municipalia.html
CLASS:PUBLIC
END:VEVENT
END:VCALENDAR
