BEGIN:VCALENDAR
VERSION:2.0
CALSCALE:GREGORIAN
PRODID:-//Diputació de Barcelona//DibaCMS//EN
BEGIN:VEVENT
UID:3020
DTSTAMP:20260419T151554
DTSTART:20211124T190000
DTEND:20211124T200000
SUMMARY:Taller: Ajudar a prevenir l'addicció a les pantalles dels nostres fills i filles
LOCATION:online 
METHOD:PUBLISH
X-WR-CALNAME:canovesisamalus@canovesisamalus.cat
X-WR-TIMEZONE:Europe/Madrid
DESCRIPTION:Com podem actuar les famílies?

URI:https://www.canovesisamalus.cat/actualitat/agenda-municipal/taller-ajudar-a-prevenir-laddiccio-a-les-pantalles-dels-nostres-fills-i-filles.html
CLASS:PUBLIC
END:VEVENT
END:VCALENDAR
