BEGIN:VCALENDAR
VERSION:2.0
CALSCALE:GREGORIAN
PRODID:-//Diputació de Barcelona//DibaCMS//EN
BEGIN:VEVENT
UID:3080
DTSTAMP:20260424T141405
DTSTART:20211209T080000
DTEND:20220102T000000
SUMMARY:Encarrilant l’arrencada de la rehabilitació de La Rectoria
LOCATION:
METHOD:PUBLISH
X-WR-CALNAME:canovesisamalus@canovesisamalus.cat
X-WR-TIMEZONE:Europe/Madrid
DESCRIPTION:El Govern local desitja que l'empresa licitadora pugui començar el projecte de rehabilitació de La Rectoria el més aviat possible i donar llum aquest centre cívic que tants canovins i canovines esperen amb il·lusió.

URI:https://www.canovesisamalus.cat/actualitat/noticies/encarrilant-larrencada-de-la-rehabilitacio-de-la-rectoria.html
CLASS:PUBLIC
END:VEVENT
END:VCALENDAR
