BEGIN:VCALENDAR
VERSION:2.0
CALSCALE:GREGORIAN
PRODID:-//Diputació de Barcelona//DibaCMS//EN
BEGIN:VEVENT
UID:3231
DTSTAMP:20260424T072822
DTSTART:20220516T170000
DTEND:20220516T183000
SUMMARY:Grup de dones, espai per compartir
LOCATION:Can Casademunt, s/n  08445 Cànoves i Samalús
METHOD:PUBLISH
X-WR-CALNAME:canovesisamalus@canovesisamalus.cat
X-WR-TIMEZONE:Europe/Madrid
DESCRIPTION:Viatja cap el teu interior en un espai de confiança i seguretat, agafant eines i recursos per potenciar el teu creixement personal.

URI:https://www.canovesisamalus.cat/actualitat/oferta-formativa/3231-grup-de-dones-espai-per-compartir.html
CLASS:PUBLIC
END:VEVENT
END:VCALENDAR
