BEGIN:VCALENDAR
VERSION:2.0
CALSCALE:GREGORIAN
PRODID:-//Diputació de Barcelona//DibaCMS//EN
BEGIN:VEVENT
UID:3232
DTSTAMP:20260424T073103
DTSTART:20220523T170000
DTEND:20220523T183000
SUMMARY:Grup de dones, espai per compartir
LOCATION:Can Casademunt, s/n  08445 Cànoves i Samalús
METHOD:PUBLISH
X-WR-CALNAME:canovesisamalus@canovesisamalus.cat
X-WR-TIMEZONE:Europe/Madrid
DESCRIPTION:Viatja cap el teu interior en un espai de confiança i seguretat, agafant eines i recursos per potenciar el teu creixement personal.

URI:https://www.canovesisamalus.cat/actualitat/oferta-formativa/3232-grup-de-dones-espai-per-compartir.html
CLASS:PUBLIC
END:VEVENT
END:VCALENDAR
