BEGIN:VCALENDAR
VERSION:2.0
CALSCALE:GREGORIAN
PRODID:-//Diputació de Barcelona//DibaCMS//EN
BEGIN:VEVENT
UID:3309
DTSTAMP:20260424T103223
DTSTART:20220513T120000
DTEND:20220608T000000
SUMMARY:Conclusions de la tercera jornada del Programa TTT 
LOCATION:
METHOD:PUBLISH
X-WR-CALNAME:canovesisamalus@canovesisamalus.cat
X-WR-TIMEZONE:Europe/Madrid
DESCRIPTION:La tercera jornada del programa TTT posa de manifest que l’automatització dels processos administratius passa a ser una necessitat per a les empreses.

URI:https://www.canovesisamalus.cat/actualitat/noticies/conclusions-de-la-tercera-jornada-del-programa-ttt-.html
CLASS:PUBLIC
END:VEVENT
END:VCALENDAR
