BEGIN:VCALENDAR
VERSION:2.0
CALSCALE:GREGORIAN
PRODID:-//Diputació de Barcelona//DibaCMS//EN
BEGIN:VEVENT
UID:3314
DTSTAMP:20260424T072929
DTSTART:20220517T170000
DTEND:20220517T180000
SUMMARY:Xerrada-taller: Anem per feina!!
LOCATION:Espai Jove El Racó 
METHOD:PUBLISH
X-WR-CALNAME:canovesisamalus@canovesisamalus.cat
X-WR-TIMEZONE:Europe/Madrid
DESCRIPTION:Vols treballar aquest estiu?
Vols començar a treballar i no saps per on començar?
Ja tens el Currículum fet?
Vols un cop de mà?

 

URI:https://www.canovesisamalus.cat/actualitat/agenda-municipal/xerrada-taller-anem-per-feina.html
CLASS:PUBLIC
END:VEVENT
END:VCALENDAR
