BEGIN:VCALENDAR
VERSION:2.0
CALSCALE:GREGORIAN
PRODID:-//Diputació de Barcelona//DibaCMS//EN
BEGIN:VEVENT
UID:3329
DTSTAMP:20260424T073327
DTSTART:20220521T190000
DTEND:20220521T203000
SUMMARY:Sessió de teatre: Toc toc
LOCATION:Can Casademunt, s/n  08445 Cànoves i Samalús
METHOD:PUBLISH
X-WR-CALNAME:canovesisamalus@canovesisamalus.cat
X-WR-TIMEZONE:Europe/Madrid
DESCRIPTION:El grup Traspunt Teatre representen l'obra Toc toc de Laurent Baffie.

Obra no recomanada per a menors de 12 anys.

Sinopsis

Representació el 21 i 22 de maig.

 


Organitza:
Associació El S


URI:https://www.canovesisamalus.cat/actualitat/agenda-municipal/sessio-de-teatre-toc-toc.html
CLASS:PUBLIC
END:VEVENT
END:VCALENDAR
