BEGIN:VCALENDAR
VERSION:2.0
CALSCALE:GREGORIAN
PRODID:-//Diputació de Barcelona//DibaCMS//EN
BEGIN:VEVENT
UID:335
DTSTAMP:20260422T141249
DTSTART:20170305T145500
DTEND:20170305T145500
SUMMARY:Premi Pepi Pagès de poesia
LOCATION:
METHOD:PUBLISH
X-WR-CALNAME:canovesisamalus@canovesisamalus.cat
X-WR-TIMEZONE:Europe/Madrid
DESCRIPTION:Des de l’any 2013, any de la VIII edició de la convocatòria, el Premi Pepi Pagès té un sol lema: “Conviure amb la malaltia”. En aquest cas, el càncer.

URI:https://www.canovesisamalus.cat/actualitat/agenda-municipal/premi-pepi-pages-de-poesia.html
CLASS:PUBLIC
END:VEVENT
END:VCALENDAR
