BEGIN:VCALENDAR
VERSION:2.0
CALSCALE:GREGORIAN
PRODID:-//Diputació de Barcelona//DibaCMS//EN
BEGIN:VEVENT
UID:336
DTSTAMP:20260422T112445
DTSTART:20170305T080000
DTEND:20170305T150000
SUMMARY:6ª Pedalada del Senglar
LOCATION:
METHOD:PUBLISH
X-WR-CALNAME:canovesisamalus@canovesisamalus.cat
X-WR-TIMEZONE:Europe/Madrid
DESCRIPTION:Aquest any amb categoria de bicis elèctriques i classificació pròpia! 

URI:https://www.canovesisamalus.cat/actualitat/agenda-municipal/httpswwwfacebookcompedaladadelsenglarfrefts.html
CLASS:PUBLIC
END:VEVENT
END:VCALENDAR
