BEGIN:VCALENDAR
VERSION:2.0
CALSCALE:GREGORIAN
PRODID:-//Diputació de Barcelona//DibaCMS//EN
BEGIN:VEVENT
UID:3365
DTSTAMP:20260424T070041
DTSTART:20220610T120000
DTEND:20220710T000000
SUMMARY:El Consorci participa demà a l’Ultra Clean Marathon amb dos equips, un de corredors i un altre de caminants
LOCATION:
METHOD:PUBLISH
X-WR-CALNAME:canovesisamalus@canovesisamalus.cat
X-WR-TIMEZONE:Europe/Madrid
DESCRIPTION:“El Consorci en marxa: corredors blaus” i “El Consorci en marxa: caminants blaus” recorreran 60 km fent neteja d’espais naturals

URI:https://www.canovesisamalus.cat/actualitat/noticies/el-consorci-participa-dema-a-lultra-clean-marathon-amb-dos-equips-un-de-corredors-i-un-altre-de-caminants.html
CLASS:PUBLIC
END:VEVENT
END:VCALENDAR
