BEGIN:VCALENDAR
VERSION:2.0
CALSCALE:GREGORIAN
PRODID:-//Diputació de Barcelona//DibaCMS//EN
BEGIN:VEVENT
UID:3366
DTSTAMP:20260424T072834
DTSTART:20220621T133000
DTEND:20220621T153000
SUMMARY:Xerrada informativa: Requisits mínims dels establiments comercials en l'àmbit de consum 
LOCATION:Ajuntament de Cardedeu, sala de les columnes. Pl. de Sant Joan, 1 de Cardedeu (accés pel Jardí de Lluís Companys). 
METHOD:PUBLISH
X-WR-CALNAME:canovesisamalus@canovesisamalus.cat
X-WR-TIMEZONE:Europe/Madrid
DESCRIPTION:L’Oficina Municipal de Consum de Cardedeu – OMIC, organitza la xerrada “Informació sobre requisits mínims exigibles als establiments comercials”.

URI:https://www.canovesisamalus.cat/actualitat/agenda-municipal/xerrada-informativa-requisits-minims-dels-establiments-comercials-en-lambit-de-consum-.html
CLASS:PUBLIC
END:VEVENT
END:VCALENDAR
