BEGIN:VCALENDAR
VERSION:2.0
CALSCALE:GREGORIAN
PRODID:-//Diputació de Barcelona//DibaCMS//EN
BEGIN:VEVENT
UID:3463
DTSTAMP:20260424T034149
DTSTART:20221001T200000
DTEND:20221001T210000
SUMMARY: Concert amb el grup Xu-wap Trio
LOCATION:Av. Josep Crous, s/n  08445 Cànoves i Samalús
METHOD:PUBLISH
X-WR-CALNAME:canovesisamalus@canovesisamalus.cat
X-WR-TIMEZONE:Europe/Madrid
DESCRIPTION:20,00 h. Trio amb tocs molt personals dels standards de Jazz, bossa-nova, swing i boleros d'ara i tots els temps.  Estem segurs que la seva música no us deixarà indiferents.
 

URI:https://www.canovesisamalus.cat/actualitat/agenda-municipal/-concert-amb-el-grup-xu-wap-trio.html
CLASS:PUBLIC
END:VEVENT
END:VCALENDAR
