BEGIN:VCALENDAR
VERSION:2.0
CALSCALE:GREGORIAN
PRODID:-//Diputació de Barcelona//DibaCMS//EN
BEGIN:VEVENT
UID:3575
DTSTAMP:20260423T194120
DTSTART:20221122T090000
DTEND:20221122T140000
SUMMARY:Formació empresarial: Les 12 úniques maneres de captar clients
LOCATION:CSETC  - Josep Vilaseca, 23 - Cardedeu 
METHOD:PUBLISH
X-WR-CALNAME:canovesisamalus@canovesisamalus.cat
X-WR-TIMEZONE:Europe/Madrid
DESCRIPTION:Formadores: Mónica Mendoza i Carmen Miravalls

Dies 21 i 22 de novembre de 2022, de 9h a 14h

URI:https://www.canovesisamalus.cat/actualitat/oferta-formativa/3575-formacio-empresarial-les-12-uniques-maneres-de-captar-clients.html
CLASS:PUBLIC
END:VEVENT
END:VCALENDAR
