BEGIN:VCALENDAR
VERSION:2.0
CALSCALE:GREGORIAN
PRODID:-//Diputació de Barcelona//DibaCMS//EN
BEGIN:VEVENT
UID:361
DTSTAMP:20260422T112003
DTSTART:20170224T090000
DTEND:20170225T180000
SUMMARY:La Carbonera:  Tria de la llenya.
LOCATION:
METHOD:PUBLISH
X-WR-CALNAME:canovesisamalus@canovesisamalus.cat
X-WR-TIMEZONE:Europe/Madrid
DESCRIPTION:
URI:https://www.canovesisamalus.cat/actualitat/agenda-municipal/la-carbonera-tria-de-la-llenya.html
CLASS:PUBLIC
END:VEVENT
END:VCALENDAR
