BEGIN:VCALENDAR
VERSION:2.0
CALSCALE:GREGORIAN
PRODID:-//Diputació de Barcelona//DibaCMS//EN
BEGIN:VEVENT
UID:3626
DTSTAMP:20260424T005423
DTSTART:20230120T110000
DTEND:20230120T150000
SUMMARY:Festa Major de Sant Sebastià
LOCATION:
METHOD:PUBLISH
X-WR-CALNAME:canovesisamalus@canovesisamalus.cat
X-WR-TIMEZONE:Europe/Madrid
DESCRIPTION:Festa Major d'hivern de Cànoves
Festivitat local

URI:https://www.canovesisamalus.cat/actualitat/agenda-municipal/3626-festa-major-de-sant-sebastia.html
CLASS:PUBLIC
END:VEVENT
END:VCALENDAR
