BEGIN:VCALENDAR
VERSION:2.0
CALSCALE:GREGORIAN
PRODID:-//Diputació de Barcelona//DibaCMS//EN
BEGIN:VEVENT
UID:3629
DTSTAMP:20260424T004735
DTSTART:20230124T133000
DTEND:20230124T153000
SUMMARY:Xerrada "Garanties en la venda de béns de consum"
LOCATION:CSETC, Sala de Formació. c/ Josep Vilaseca, 23 08440 Cardedeu 
METHOD:PUBLISH
X-WR-CALNAME:canovesisamalus@canovesisamalus.cat
X-WR-TIMEZONE:Europe/Madrid
DESCRIPTION:L'Oficina Municipal de Consum de Cardedeu - OMIC, organitza la xerrada "Garanties en la venda de béns de consum"

URI:https://www.canovesisamalus.cat/actualitat/agenda-municipal/xerrada-garanties-en-la-venda-de-bens-de-consum.html
CLASS:PUBLIC
END:VEVENT
END:VCALENDAR
