BEGIN:VCALENDAR
VERSION:2.0
CALSCALE:GREGORIAN
PRODID:-//Diputació de Barcelona//DibaCMS//EN
BEGIN:VEVENT
UID:363
DTSTAMP:20260422T170242
DTSTART:20170303T090000
DTEND:20170304T180000
SUMMARY:La Carbonera: Embalumar la pila i tapar-la amb fagell.
LOCATION:
METHOD:PUBLISH
X-WR-CALNAME:canovesisamalus@canovesisamalus.cat
X-WR-TIMEZONE:Europe/Madrid
DESCRIPTION:
URI:https://www.canovesisamalus.cat/actualitat/agenda-municipal/la-carbonera-embalumar-la-pila-i-tapar-la-amb-fagell.html
CLASS:PUBLIC
END:VEVENT
END:VCALENDAR
