BEGIN:VCALENDAR
VERSION:2.0
CALSCALE:GREGORIAN
PRODID:-//Diputació de Barcelona//DibaCMS//EN
BEGIN:VEVENT
UID:3634
DTSTAMP:20260424T015826
DTSTART:20230209T090000
DTEND:20230209T130000
SUMMARY:Nova expedició de DNI's
LOCATION:Masia Can Casademunt, s/n  08445 Cànoves i Samalús
METHOD:PUBLISH
X-WR-CALNAME:canovesisamalus@canovesisamalus.cat
X-WR-TIMEZONE:Europe/Madrid
DESCRIPTION:Lloc: Sala de Plens de l'Ajuntament.

URI:https://www.canovesisamalus.cat/actualitat/agenda-municipal/nova-expedicio-de-dnis.html
CLASS:PUBLIC
END:VEVENT
END:VCALENDAR
