BEGIN:VCALENDAR
VERSION:2.0
CALSCALE:GREGORIAN
PRODID:-//Diputació de Barcelona//DibaCMS//EN
BEGIN:VEVENT
UID:364
DTSTAMP:20260422T113919
DTSTART:20170305T113000
DTEND:20170305T183000
SUMMARY:La Carbonera: Encesa de la pila
LOCATION:
METHOD:PUBLISH
X-WR-CALNAME:canovesisamalus@canovesisamalus.cat
X-WR-TIMEZONE:Europe/Madrid
DESCRIPTION:Progama dels actes del dia.

URI:https://www.canovesisamalus.cat/actualitat/agenda-municipal/la-carbonera-encesa-de-la-pila.html
CLASS:PUBLIC
END:VEVENT
END:VCALENDAR
