BEGIN:VCALENDAR
VERSION:2.0
CALSCALE:GREGORIAN
PRODID:-//Diputació de Barcelona//DibaCMS//EN
BEGIN:VEVENT
UID:365
DTSTAMP:20260422T141129
DTSTART:20170311T103000
DTEND:20170311T235500
SUMMARY:La Carbonera: Ruta dels carboners.
LOCATION:
METHOD:PUBLISH
X-WR-CALNAME:canovesisamalus@canovesisamalus.cat
X-WR-TIMEZONE:Europe/Madrid
DESCRIPTION:Programa dels actes del dia.

URI:https://www.canovesisamalus.cat/actualitat/agenda-municipal/la-carbonera-ruta-dels-carboners.html
CLASS:PUBLIC
END:VEVENT
END:VCALENDAR
