BEGIN:VCALENDAR
VERSION:2.0
CALSCALE:GREGORIAN
PRODID:-//Diputació de Barcelona//DibaCMS//EN
BEGIN:VEVENT
UID:366
DTSTAMP:20260422T125502
DTSTART:20170312T103000
DTEND:20170312T200000
SUMMARY:La Carbonera: Ruta de carboners.
LOCATION:
METHOD:PUBLISH
X-WR-CALNAME:canovesisamalus@canovesisamalus.cat
X-WR-TIMEZONE:Europe/Madrid
DESCRIPTION:Programa d'actes del dia.

URI:https://www.canovesisamalus.cat/actualitat/agenda-municipal/la-carbonera-ruta-de-carboners.html
CLASS:PUBLIC
END:VEVENT
END:VCALENDAR
