BEGIN:VCALENDAR
VERSION:2.0
CALSCALE:GREGORIAN
PRODID:-//Diputació de Barcelona//DibaCMS//EN
BEGIN:VEVENT
UID:370
DTSTAMP:20260422T112525
DTSTART:20170222T144500
DTEND:20170222T164500
SUMMARY:Jornada tècnica: Creació de paquets turístics per a la seva comercialització
LOCATION:
METHOD:PUBLISH
X-WR-CALNAME:canovesisamalus@canovesisamalus.cat
X-WR-TIMEZONE:Europe/Madrid
DESCRIPTION:Dintre del treball de la Taula de Turisme de Compres del Consell Comarcal  la primera acció del 2017 serà una jornada tècnica  a càrrec del Consell Comarcal del Vallès Oriental.

URI:https://www.canovesisamalus.cat/actualitat/oferta-formativa/jornada-tecnica-creacio-de-paquets-turistics-per-a-la-seva-comercialitzacio.html
CLASS:PUBLIC
END:VEVENT
END:VCALENDAR
