BEGIN:VCALENDAR
VERSION:2.0
CALSCALE:GREGORIAN
PRODID:-//Diputació de Barcelona//DibaCMS//EN
BEGIN:VEVENT
UID:371
DTSTAMP:20260422T153516
DTSTART:20170311T100000
DTEND:20170311T180000
SUMMARY:Pràctica de mindfulness en silenci
LOCATION:
METHOD:PUBLISH
X-WR-CALNAME:canovesisamalus@canovesisamalus.cat
X-WR-TIMEZONE:Europe/Madrid
DESCRIPTION:
URI:https://www.canovesisamalus.cat/actualitat/oferta-formativa/practica-de-mindfulness-en-silenci.html
CLASS:PUBLIC
END:VEVENT
END:VCALENDAR
