BEGIN:VCALENDAR
VERSION:2.0
CALSCALE:GREGORIAN
PRODID:-//Diputació de Barcelona//DibaCMS//EN
BEGIN:VEVENT
UID:374
DTSTAMP:20260422T111458
DTSTART:20170207T092500
DTEND:20170310T092500
SUMMARY:Servei d'informació juvenil
LOCATION:
METHOD:PUBLISH
X-WR-CALNAME:canovesisamalus@canovesisamalus.cat
X-WR-TIMEZONE:Europe/Madrid
DESCRIPTION:El servei d'Informació Juvenil és un servei adreçat principalment a la població d’entre 14 a 35 anys i ofereix informació laboral i acadèmica.

URI:https://www.canovesisamalus.cat/actualitat/noticies/servei-dinformacio-juvenil.html
CLASS:PUBLIC
END:VEVENT
END:VCALENDAR
