BEGIN:VCALENDAR
VERSION:2.0
CALSCALE:GREGORIAN
PRODID:-//Diputació de Barcelona//DibaCMS//EN
BEGIN:VEVENT
UID:3775
DTSTAMP:20260423T223900
DTSTART:20230403T000000
DTEND:20230516T000000
SUMMARY:Oberta la convocatòria per a la concessió de subvencions d’activitats de cultura i de lleure
LOCATION:
METHOD:PUBLISH
X-WR-CALNAME:canovesisamalus@canovesisamalus.cat
X-WR-TIMEZONE:Europe/Madrid
DESCRIPTION:Ja s’ha obert la convocatòria per a la concessió de subvencions d’activitats de cultura i de lleure i enguany es compta amb un fons de 15.000 euros.

URI:https://www.canovesisamalus.cat/actualitat/noticies/oberta-la-convocatoria-per-a-la-concessio-de-subvencions-dactivitats-de-cultura-i-de-lleure.html
CLASS:PUBLIC
END:VEVENT
END:VCALENDAR
