BEGIN:VCALENDAR
VERSION:2.0
CALSCALE:GREGORIAN
PRODID:-//Diputació de Barcelona//DibaCMS//EN
BEGIN:VEVENT
UID:3849
DTSTAMP:20260423T222703
DTSTART:20230427T140000
DTEND:20230527T000000
SUMMARY:Carla Gámez, d’Aiguafreda, guanyadora del Premi Talent jove
LOCATION:
METHOD:PUBLISH
X-WR-CALNAME:canovesisamalus@canovesisamalus.cat
X-WR-TIMEZONE:Europe/Madrid
DESCRIPTION:El premi posa en valor la joventut vallesana que destaca en algun tipus de sector o d’activitat.

URI:https://www.canovesisamalus.cat/actualitat/noticies/carla-gamez-daiguafreda-guanyadora-del-premi-talent-jove.html
CLASS:PUBLIC
END:VEVENT
END:VCALENDAR
