BEGIN:VCALENDAR
VERSION:2.0
CALSCALE:GREGORIAN
PRODID:-//Diputació de Barcelona//DibaCMS//EN
BEGIN:VEVENT
UID:387
DTSTAMP:20260422T112345
DTSTART:20170301T170000
DTEND:20170301T190000
SUMMARY:Taller d'olis essencials
LOCATION:
METHOD:PUBLISH
X-WR-CALNAME:canovesisamalus@canovesisamalus.cat
X-WR-TIMEZONE:Europe/Madrid
DESCRIPTION:Taller d'olis essencials terapèutics.

URI:https://www.canovesisamalus.cat/actualitat/oferta-formativa/taller-dolis-essencials.html
CLASS:PUBLIC
END:VEVENT
END:VCALENDAR
