BEGIN:VCALENDAR
VERSION:2.0
CALSCALE:GREGORIAN
PRODID:-//Diputació de Barcelona//DibaCMS//EN
BEGIN:VEVENT
UID:3924
DTSTAMP:20260423T210837
DTSTART:20230614T170000
DTEND:20230614T180000
SUMMARY:Assemblea General: Eleccions nova Junta del Casal de la Gent Gran El Galliner.
LOCATION:Francesc Bruguera, s/n  08445 Cànoves i Samalús
METHOD:PUBLISH
X-WR-CALNAME:canovesisamalus@canovesisamalus.cat
X-WR-TIMEZONE:Europe/Madrid
DESCRIPTION:Vine i participa!

URI:https://www.canovesisamalus.cat/actualitat/agenda-municipal/assemblea-general-eleccions-nova-junta-del-casal-de-la-gent-gran-el-galliner.html
CLASS:PUBLIC
END:VEVENT
END:VCALENDAR
