BEGIN:VCALENDAR
VERSION:2.0
CALSCALE:GREGORIAN
PRODID:-//Diputació de Barcelona//DibaCMS//EN
BEGIN:VEVENT
UID:4076
DTSTAMP:20260423T195110
DTSTART:20230908T000000
DTEND:20231009T000000
SUMMARY:Cànoves i Samalús aquest setembre a VOTV
LOCATION:
METHOD:PUBLISH
X-WR-CALNAME:canovesisamalus@canovesisamalus.cat
X-WR-TIMEZONE:Europe/Madrid
DESCRIPTION:Estigues al dia del què passa al nostre municipi a VOTV.

URI:https://www.canovesisamalus.cat/actualitat/noticies/canoves-i-samalus-aquest-setembre-a-votv.html
CLASS:PUBLIC
END:VEVENT
END:VCALENDAR
