BEGIN:VCALENDAR
VERSION:2.0
CALSCALE:GREGORIAN
PRODID:-//Diputació de Barcelona//DibaCMS//EN
BEGIN:VEVENT
UID:410
DTSTAMP:20260422T112212
DTSTART:20170222T080000
DTEND:20170323T123500
SUMMARY:Resum de la conferència del poblat ibèric de Samalús
LOCATION:
METHOD:PUBLISH
X-WR-CALNAME:canovesisamalus@canovesisamalus.cat
X-WR-TIMEZONE:Europe/Madrid
DESCRIPTION:Resultats de la conferència sobre els primers cinc anys de recerca en el poblat ibèric del Puig del Castell de Samalús.

URI:https://www.canovesisamalus.cat/actualitat/noticies/resum-de-la-conferencia-del-poblat-iberic-de-samalus.html
CLASS:PUBLIC
END:VEVENT
END:VCALENDAR
