BEGIN:VCALENDAR
VERSION:2.0
CALSCALE:GREGORIAN
PRODID:-//Diputació de Barcelona//DibaCMS//EN
BEGIN:VEVENT
UID:415
DTSTAMP:20260422T111702
DTSTART:20170224T143500
DTEND:20170326T143500
SUMMARY:Renovació del conveni per l’ús públic del Parc.
LOCATION:
METHOD:PUBLISH
X-WR-CALNAME:canovesisamalus@canovesisamalus.cat
X-WR-TIMEZONE:Europe/Madrid
DESCRIPTION: La Diputació de Barcelona, mitjançant l’Oficina Tècnica de Parcs Naturals, gestiona el Parc Natural del Montseny d’acord amb el Pla Especial de Protecció del Medi Natural i del Paisatge del Parc del Montseny.  

URI:https://www.canovesisamalus.cat/actualitat/noticies/renovacio-del-conveni-per-lus-public-del-parc.html
CLASS:PUBLIC
END:VEVENT
END:VCALENDAR
