BEGIN:VCALENDAR
VERSION:2.0
CALSCALE:GREGORIAN
PRODID:-//Diputació de Barcelona//DibaCMS//EN
BEGIN:VEVENT
UID:416
DTSTAMP:20260422T113315
DTSTART:20170308T190000
DTEND:20170308T203000
SUMMARY:Dia Internacional de la Dona
LOCATION:
METHOD:PUBLISH
X-WR-CALNAME:canovesisamalus@canovesisamalus.cat
X-WR-TIMEZONE:Europe/Madrid
DESCRIPTION:En motiu del Dia Internacional de la Dona, els Serveis Socials de l'ajuntament porten al poble l'espectacle de Dorita Mayalde. 

URI:https://www.canovesisamalus.cat/actualitat/agenda-municipal/dia-internacional-de-la-dona.html
CLASS:PUBLIC
END:VEVENT
END:VCALENDAR
