BEGIN:VCALENDAR
VERSION:2.0
CALSCALE:GREGORIAN
PRODID:-//Diputació de Barcelona//DibaCMS//EN
BEGIN:VEVENT
UID:418
DTSTAMP:20260422T112013
DTSTART:20170227T143000
DTEND:20170329T143000
SUMMARY:Modificacions en la Línia Cànoves-Granollers
LOCATION:
METHOD:PUBLISH
X-WR-CALNAME:canovesisamalus@canovesisamalus.cat
X-WR-TIMEZONE:Europe/Madrid
DESCRIPTION:Les modificacions en la Línia Cànoves-Granollers no afecten als usuaris del municipi de Cànoves i Samalús.

URI:https://www.canovesisamalus.cat/actualitat/noticies/modificacions-en-la-linia-canoves-granollers.html
CLASS:PUBLIC
END:VEVENT
END:VCALENDAR
