BEGIN:VCALENDAR
VERSION:2.0
CALSCALE:GREGORIAN
PRODID:-//Diputació de Barcelona//DibaCMS//EN
BEGIN:VEVENT
UID:4209
DTSTAMP:20260423T173014
DTSTART:20231116T000000
DTEND:20231215T000000
SUMMARY:Creant xarxa LGBTIA+ al Vallès Oriental
LOCATION:
METHOD:PUBLISH
X-WR-CALNAME:canovesisamalus@canovesisamalus.cat
X-WR-TIMEZONE:Europe/Madrid
DESCRIPTION:Dissabte passat se celebrava a Cardedeu la primera jornada del «Vallès Queer», un espai d’aixopluc perquè les persones dissidents del Vallès Oriental fessin xarxa, aliances i comunitat LGBTIA+.

URI:https://www.canovesisamalus.cat/actualitat/noticies/creant-xarxa-lgbtia-al-valles-oriental.html
CLASS:PUBLIC
END:VEVENT
END:VCALENDAR
