BEGIN:VCALENDAR
VERSION:2.0
CALSCALE:GREGORIAN
PRODID:-//Diputació de Barcelona//DibaCMS//EN
BEGIN:VEVENT
UID:424
DTSTAMP:20260422T125435
DTSTART:20170311T173000
DTEND:20170311T235000
SUMMARY:Dia de la Dona Treballadora
LOCATION:
METHOD:PUBLISH
X-WR-CALNAME:canovesisamalus@canovesisamalus.cat
X-WR-TIMEZONE:Europe/Madrid
DESCRIPTION:Vine a celebrar amb el PSC-CP de Cànoves el Dia de la Dona Treballadora!

URI:https://www.canovesisamalus.cat/actualitat/agenda-municipal/dia-de-la-dona-treballadora.html
CLASS:PUBLIC
END:VEVENT
END:VCALENDAR
